BEGIN:VCALENDAR
VERSION:2.0
PRODID:-//eventon.com NONSGML v1.0//EN
CALSCALE:GREGORIAN
METHOD:PUBLISH
BEGIN:VEVENT
UID:69e9fcef6c9f0
DTSTAMP:20260423T110519Z
DTSTART:20260909T160000Z
DTEND:20260909T170000Z
LOCATION:Center Point 1050 Elephant Trail
SUMMARY:Executive & Financial Committee Meeting
DESCRIPTION:\nhttps://centerpointga.org/events/executive-financial-committe
 e-meeting-5/
URL:https://centerpointga.org/events/executive-financial-committee-meeting-5/
END:VEVENT
END:VCALENDAR