BEGIN:VCALENDAR
VERSION:2.0
PRODID:-//eventon.com NONSGML v1.0//EN
CALSCALE:GREGORIAN
METHOD:PUBLISH
BEGIN:VEVENT
UID:69e771e36b30a
DTSTAMP:20260421T124731Z
DTSTART:20260608T160000Z
DTEND:20260608T170000Z
LOCATION:Center Point 1050 Elephant Trail
SUMMARY:Executive & Financial Committee Meeting
DESCRIPTION:\nhttps://centerpointga.org/events/executive-financial-committe
 e-meeting-4/
URL:https://centerpointga.org/events/executive-financial-committee-meeting-4/
END:VEVENT
END:VCALENDAR