BEGIN:VCALENDAR
VERSION:2.0
PRODID:-//eventon.com NONSGML v1.0//EN
CALSCALE:GREGORIAN
METHOD:PUBLISH
BEGIN:VEVENT
UID:69e9fd47dd6b7
DTSTAMP:20260423T110647Z
DTSTART:20260618T153000Z
DTEND:20260618T170000Z
LOCATION:
SUMMARY:Board of Trustees Meeting
DESCRIPTION:Center Point Conference Room\nhttps://centerpointga.org/events/
 board-of-trustees-meeting-4/
URL:https://centerpointga.org/events/board-of-trustees-meeting-4/
END:VEVENT
END:VCALENDAR